BEGIN:VCALENDAR
VERSION:2.0
PRODID:-//Syltie Gestion - ECPv5.16.3.1//NONSGML v1.0//EN
CALSCALE:GREGORIAN
METHOD:PUBLISH
X-ORIGINAL-URL:https://www.syltiegestion.fr
X-WR-CALDESC:évènements pour Syltie Gestion
REFRESH-INTERVAL;VALUE=DURATION:PT1H
X-Robots-Tag:noindex
X-PUBLISHED-TTL:PT1H
BEGIN:VTIMEZONE
TZID:Europe/Paris
BEGIN:DAYLIGHT
TZOFFSETFROM:+0100
TZOFFSETTO:+0200
TZNAME:CEST
DTSTART:20260329T010000
END:DAYLIGHT
BEGIN:STANDARD
TZOFFSETFROM:+0200
TZOFFSETTO:+0100
TZNAME:CET
DTSTART:20261025T010000
END:STANDARD
END:VTIMEZONE
BEGIN:VEVENT
DTSTART;TZID=Europe/Paris:20260629T083000
DTEND;TZID=Europe/Paris:20260630T163000
DTSTAMP:20260424T222133
CREATED:20260409T090331Z
LAST-MODIFIED:20260409T090331Z
UID:11205-1782721800-1782837000@www.syltiegestion.fr
SUMMARY:Habilitation Electrique BR RECYCLAGE
DESCRIPTION:Rendez-Vous pour notre formation ! \nVous trouvez\, en cliquant sur le bouton juste en dessous\, tous les détails de la formation\, les programmes\, les pré-requis\, etc… et le formulaire de demande de devis.  \nN’hésitez pas à nous contacter pour réserver votre place en formation !  \nSandy Coppola Directrice de l’organisme de formation \n						\n				\n				\n				\n					\n			\n						\n						En Savoir+ sur la Formation
URL:https://www.syltiegestion.fr/evenement/habilitation-electrique-br-recyclage-9/
LOCATION:Syltie Gestion\, 49 route de paris\, AVERMES\, 03000\, France
CATEGORIES:Formation
ATTACH;FMTTYPE=image/jpeg:https://www.syltiegestion.fr/wp-content/uploads/2022/08/hands-professional-on-installing-electrical-outlet-2022-08-01-04-02-24-utc-scaled.jpg
ORGANIZER;CN="Sandy%20Coppola":MAILTO:accueil.gestion@syltie.fr
END:VEVENT
BEGIN:VEVENT
DTSTART;TZID=Europe/Paris:20260702T083000
DTEND;TZID=Europe/Paris:20260702T163000
DTSTAMP:20260424T222133
CREATED:20260223T092908Z
LAST-MODIFIED:20260223T092908Z
UID:11223-1782981000-1783009800@www.syltiegestion.fr
SUMMARY:SST MAC (Recyclage)
DESCRIPTION:Rendez-Vous pour notre formation ! \nVous trouvez\, en cliquant sur le bouton juste en dessous\, tous les détails de la formation\, les programmes\, les pré-requis\, etc… et le formulaire de demande de devis.  \nN’hésitez pas à nous contacter pour réserver votre place en formation !  \nSandy Coppola Directrice de l’organisme de formation \n						\n				\n				\n				\n					\n			\n						\n						En Savoir+ sur la Formation
URL:https://www.syltiegestion.fr/evenement/sst-mac-recyclage-23/
LOCATION:Syltie Gestion\, 49 route de paris\, AVERMES\, 03000\, France
CATEGORIES:Formation
ATTACH;FMTTYPE=image/jpeg:https://www.syltiegestion.fr/wp-content/uploads/2022/07/first-aid-training-2021-12-17-00-58-29-utc-min-scaled.jpg
ORGANIZER;CN="Sandy%20Coppola":MAILTO:accueil.gestion@syltie.fr
END:VEVENT
BEGIN:VEVENT
DTSTART;TZID=Europe/Paris:20260707T083000
DTEND;TZID=Europe/Paris:20260707T163000
DTSTAMP:20260424T222133
CREATED:20260223T092954Z
LAST-MODIFIED:20260223T092954Z
UID:11225-1783413000-1783441800@www.syltiegestion.fr
SUMMARY:Amiante SS4 Opérateur de chantier Recyclage
DESCRIPTION:Rendez-Vous pour notre formation ! \nVous trouvez\, en cliquant sur le bouton juste en dessous\, tous les détails de la formation\, les programmes\, les pré-requis\, etc… et le formulaire de demande de devis.  \nN’hésitez pas à nous contacter pour réserver votre place en formation !  \nSandy Coppola Directrice de l’organisme de formation \n						\n				\n				\n				\n					\n			\n						\n						En Savoir+ sur la Formation
URL:https://www.syltiegestion.fr/evenement/amiante-ss4-operateur-de-chantier-recyclage-9/
LOCATION:Syltie Gestion\, 49 route de paris\, AVERMES\, 03000\, France
CATEGORIES:Formation
ATTACH;FMTTYPE=image/jpeg:https://www.syltiegestion.fr/wp-content/uploads/2022/08/LKNDCjbznd.jpg
ORGANIZER;CN="Sandy%20Coppola":MAILTO:accueil.gestion@syltie.fr
END:VEVENT
BEGIN:VEVENT
DTSTART;TZID=Europe/Paris:20260914T083000
DTEND;TZID=Europe/Paris:20260914T163000
DTSTAMP:20260424T222133
CREATED:20260409T090735Z
LAST-MODIFIED:20260409T090735Z
UID:11237-1789374600-1789403400@www.syltiegestion.fr
SUMMARY:SST MAC (Recyclage)
DESCRIPTION:Rendez-Vous pour notre formation ! \nVous trouvez\, en cliquant sur le bouton juste en dessous\, tous les détails de la formation\, les programmes\, les pré-requis\, etc… et le formulaire de demande de devis.  \nN’hésitez pas à nous contacter pour réserver votre place en formation !  \nSandy Coppola Directrice de l’organisme de formation \n						\n				\n				\n				\n					\n			\n						\n						En Savoir+ sur la Formation
URL:https://www.syltiegestion.fr/evenement/sst-mac-recyclage-25/
LOCATION:Syltie Gestion\, 49 route de paris\, AVERMES\, 03000\, France
CATEGORIES:Formation
ATTACH;FMTTYPE=image/jpeg:https://www.syltiegestion.fr/wp-content/uploads/2022/07/first-aid-training-2021-12-17-00-58-29-utc-min-scaled.jpg
ORGANIZER;CN="Sandy%20Coppola":MAILTO:accueil.gestion@syltie.fr
END:VEVENT
BEGIN:VEVENT
DTSTART;TZID=Europe/Paris:20260921T083000
DTEND;TZID=Europe/Paris:20260922T163000
DTSTAMP:20260424T222133
CREATED:20260409T090852Z
LAST-MODIFIED:20260409T090852Z
UID:11239-1789979400-1790094600@www.syltiegestion.fr
SUMMARY:SST INITIALE
DESCRIPTION:Rendez-Vous pour notre formation ! \nVous trouvez\, en cliquant sur le bouton juste en dessous\, tous les détails de la formation\, les programmes\, les pré-requis\, etc… et le formulaire de demande de devis.  \nN’hésitez pas à nous contacter pour réserver votre place en formation !  \nSandy Coppola Directrice de l’organisme de formation \n						\n				\n				\n				\n					\n			\n						\n						En Savoir+ sur la Formation
URL:https://www.syltiegestion.fr/evenement/sst-initiale-26/
LOCATION:Syltie Gestion\, 49 route de paris\, AVERMES\, 03000\, France
CATEGORIES:Formation
ATTACH;FMTTYPE=image/jpeg:https://www.syltiegestion.fr/wp-content/uploads/2022/07/first-aid-training-2021-12-17-00-58-29-utc-min-scaled.jpg
ORGANIZER;CN="Sandy%20Coppola":MAILTO:accueil.gestion@syltie.fr
END:VEVENT
BEGIN:VEVENT
DTSTART;TZID=Europe/Paris:20260923T083000
DTEND;TZID=Europe/Paris:20260923T163000
DTSTAMP:20260424T222133
CREATED:20260409T090950Z
LAST-MODIFIED:20260409T090950Z
UID:11242-1790152200-1790181000@www.syltiegestion.fr
SUMMARY:Amiante SS4 Opérateur de chantier Recyclage
DESCRIPTION:Rendez-Vous pour notre formation ! \nVous trouvez\, en cliquant sur le bouton juste en dessous\, tous les détails de la formation\, les programmes\, les pré-requis\, etc… et le formulaire de demande de devis.  \nN’hésitez pas à nous contacter pour réserver votre place en formation !  \nSandy Coppola Directrice de l’organisme de formation \n						\n				\n				\n				\n					\n			\n						\n						En Savoir+ sur la Formation
URL:https://www.syltiegestion.fr/evenement/amiante-ss4-operateur-de-chantier-recyclage-10/
LOCATION:Syltie Gestion\, 49 route de paris\, AVERMES\, 03000\, France
CATEGORIES:Formation
ATTACH;FMTTYPE=image/jpeg:https://www.syltiegestion.fr/wp-content/uploads/2022/08/LKNDCjbznd.jpg
ORGANIZER;CN="Sandy%20Coppola":MAILTO:accueil.gestion@syltie.fr
END:VEVENT
BEGIN:VEVENT
DTSTART;TZID=Europe/Paris:20260925T083000
DTEND;TZID=Europe/Paris:20260925T163000
DTSTAMP:20260424T222133
CREATED:20260409T091056Z
LAST-MODIFIED:20260409T091056Z
UID:11244-1790325000-1790353800@www.syltiegestion.fr
SUMMARY:SST MAC (Recyclage)
DESCRIPTION:Rendez-Vous pour notre formation ! \nVous trouvez\, en cliquant sur le bouton juste en dessous\, tous les détails de la formation\, les programmes\, les pré-requis\, etc… et le formulaire de demande de devis.  \nN’hésitez pas à nous contacter pour réserver votre place en formation !  \nSandy Coppola Directrice de l’organisme de formation \n						\n				\n				\n				\n					\n			\n						\n						En Savoir+ sur la Formation
URL:https://www.syltiegestion.fr/evenement/sst-mac-recyclage-26/
LOCATION:Syltie Gestion\, 49 route de paris\, AVERMES\, 03000\, France
CATEGORIES:Formation
ATTACH;FMTTYPE=image/jpeg:https://www.syltiegestion.fr/wp-content/uploads/2022/07/first-aid-training-2021-12-17-00-58-29-utc-min-scaled.jpg
ORGANIZER;CN="Sandy%20Coppola":MAILTO:accueil.gestion@syltie.fr
END:VEVENT
END:VCALENDAR