BEGIN:VCALENDAR
VERSION:2.0
PRODID:-//Syltie Gestion - ECPv5.16.3.1//NONSGML v1.0//EN
CALSCALE:GREGORIAN
METHOD:PUBLISH
X-WR-CALNAME:Syltie Gestion
X-ORIGINAL-URL:https://www.syltiegestion.fr
X-WR-CALDESC:évènements pour Syltie Gestion
REFRESH-INTERVAL;VALUE=DURATION:PT1H
X-Robots-Tag:noindex
X-PUBLISHED-TTL:PT1H
BEGIN:VTIMEZONE
TZID:Europe/Paris
BEGIN:DAYLIGHT
TZOFFSETFROM:+0100
TZOFFSETTO:+0200
TZNAME:CEST
DTSTART:20260329T010000
END:DAYLIGHT
BEGIN:STANDARD
TZOFFSETFROM:+0200
TZOFFSETTO:+0100
TZNAME:CET
DTSTART:20261025T010000
END:STANDARD
END:VTIMEZONE
BEGIN:VEVENT
DTSTART;TZID=Europe/Paris:20260420T083000
DTEND;TZID=Europe/Paris:20260421T163000
DTSTAMP:20260424T185501
CREATED:20260223T092530Z
LAST-MODIFIED:20260223T092530Z
UID:11214-1776673800-1776789000@www.syltiegestion.fr
SUMMARY:SST INITIALE
DESCRIPTION:Rendez-Vous pour notre formation ! \nVous trouvez\, en cliquant sur le bouton juste en dessous\, tous les détails de la formation\, les programmes\, les pré-requis\, etc… et le formulaire de demande de devis.  \nN’hésitez pas à nous contacter pour réserver votre place en formation !  \nSandy Coppola Directrice de l’organisme de formation \n						\n				\n				\n				\n					\n			\n						\n						En Savoir+ sur la Formation
URL:https://www.syltiegestion.fr/evenement/sst-initiale-24/
LOCATION:Syltie Gestion\, 49 route de paris\, AVERMES\, 03000\, France
CATEGORIES:Formation
ATTACH;FMTTYPE=image/jpeg:https://www.syltiegestion.fr/wp-content/uploads/2022/07/first-aid-training-2021-12-17-00-58-29-utc-min-scaled.jpg
ORGANIZER;CN="Sandy%20Coppola":MAILTO:accueil.gestion@syltie.fr
END:VEVENT
END:VCALENDAR